BEGIN:VCALENDAR
VERSION:2.0
PRODID:-//hacksw/handcal//NONSGML v1.0//EN
BEGIN:VEVENT
SUMMARY:Competition Golf de Roissy
UID:041c10b7-aa81-481b-816c-9e39c626f13a
DTSTART:20260403T073000Z
DTEND:20260403T130000Z
LOCATION:Localisation Golf international de Roissy 95700 Roissy-en-France
CATEGORIES:Sportif
STATUS:
DESCRIPTION:<p>Rdv sur le golf de Roissy pour la premiere competition
 de la saison</p>
 
 <p>Premier depart a 10H00</p>
 
 <p>Tarif 44
 euros</p>
 
 <p>A vos agendas</p>
 
 <p>Sportivement votre</p>
URL;VALUE=URI:https://asgolfadp.sportsregions.fr/evenements/2026/04/03/competition-golf-de-roissy-2428865
END:VEVENT
END:VCALENDAR
