BEGIN:VCALENDAR
VERSION:2.0
PRODID:-//hacksw/handcal//NONSGML v1.0//EN
BEGIN:VEVENT
SUMMARY:Mini weekend golf Hersant
UID:45a4da81-d0fc-4fae-b334-70fe61b469de
DTSTART:20260513T220000Z
DTEND:20260515T220000Z
LOCATION:Localisation 404 rue des moulin 28260 La Chaussee-d'Ivry
CATEGORIES:Festif
STATUS:
DESCRIPTION:<p>Bonjour</p>
 
 <p>L'inscription pour notre mini weekend
 sur le magnifique golf d'Hersant est ouverte via le
 formulaire </p>
 
 <p><strong>Voiturette fortement conseillee 10€
 par personne</strong></p>
 
 <p>Merci de nous indiquer vos choix pour
 l'organisation du mini weekend des que possible</p>
 
 <p>Menu a 48
 euros comprenant </p>
 
 <p>entree/plat/dessert  1/4 de vin 1/2 eau
 plate ou gazeuse cafe ou the</p>
 
 <p>Nous comptons sur
 vous </p>
 
 <p>Les membres du bureau</p>
URL;VALUE=URI:https://asgolfadp.sportsregions.fr/evenements/2026/05/14/mini-weekend-golf-hersant-2428966
END:VEVENT
END:VCALENDAR
